BEGIN:VCALENDAR
VERSION:2.0
PRODID:-//Tango Property Management/EPL//NONSGML v1.0//EN
METHOD:PUBLISH
BEGIN:VEVENT
DTSTART:20200229T150000
DTEND:20200229T151000
LOCATION:120B Fremantle Road GOSNELLS, WA 6110
URL:https://tangoproperty.com.au/rental/120b-fremantle-road-gosnells-wa-6110/
TRANSP:OPAQUE
SEQUENCE:0
UID:29031582740486
DTSTAMP:20200226T180806Z
SUMMARY:Home Open - Secure, easy-care spacious villa
DESCRIPTION:This light and spacious villa offers great security with remote operated double garage and alarm system. You'll love the kitchen with shopper's entrance from the garage\, ample bench space and gas cooking. There is a gas bayonet for winter heating and ducted evaporative air-conditioning. There are 3 good sized bedrooms\, the main has an ensuite and a walk-in robe\; 2 other double bedrooms have built-in robes and are adjacent the main bathroom and separate toilet. At the rear is a covered timber decked patio for outdoor entertaining. With no garden to worry about\, this home is perfect for busy working people with little free time.\nPets considered\n\nLight and spacious tiled open living\;\nCarpeted bedrooms\, robes throughout\;\nGas cooktop & electric oven\;\nGenerous cupboard space\;\nBath tub in main bathroom\;\nAccess from garage into the living area\;\nAlfresco area under the main roof\;\nSmall easy-care outdoor area.\n\nTO REGISTER FOR VIEWING: Please go to www.tangoproperty.com.au/​rental and register to choose a day and time that suits you or call Tango Property Managers on 9450 3398.\n \n\nPLEASE NOTE if you do not register online we cannot notify you of any time changes or cancellations to inspections.
PRIORITY:1
CLASS:PUBLIC
BEGIN:VALARM
TRIGGER:-PT10080M
ACTION:DISPLAY
DESCRIPTION:Reminder
END:VALARM
END:VEVENT
END:VCALENDAR
