BEGIN:VCALENDAR
VERSION:2.0
PRODID:-//Tango Property Management/EPL//NONSGML v1.0//EN
METHOD:PUBLISH
BEGIN:VEVENT
DTSTART:20200229T140000
DTEND:20200229T141000
LOCATION:43 Nicol Rd Parkwood, WA 6147
URL:https://tangoproperty.com.au/rental/43-nicol-rd-parkwood-wa-6147/
TRANSP:OPAQUE
SEQUENCE:0
UID:52231582740391
DTSTAMP:20200226T180631Z
SUMMARY:Home Open - 4x2 Family Home With 3 Separate Living Areas
DESCRIPTION:This well presented spacious family home features three large separate living areas including a formal lounge\, huge kitchen/dining/family area\, separate games room\, master bedroom with ensuite plus 3 additional spacious bedrooms and a second bathroom.\n\nQuality flooring\, light fittings\, and stylish window treatments are found throughout this most impressive home which is well located close to shops\, parks\, schools\, public transport and restaurants.\n\nFeatures include:\n\n*Four bedrooms\, two bathrooms\n*3 Spacious living areas\n*Well-appointed kitchen with quality stainless steel cooking appliances and ample bench and storage space \n*Built in robes in good sized rooms\n*Ducted air conditioning \n*Spacious outdoor entertaining area\n*Double lock up garage\n*Reticulated gardens\n\nTO REGISTER FOR VIEWING: Please go to https://tangoproperty.com.au/rental/ and register to choose a day and time that suits you or call Tango Property Managers on 08 9450 3398.\n\nPLEASE NOTE if you do not register online we cannot notify you of any time changes or cancellations to inspections.
PRIORITY:1
CLASS:PUBLIC
BEGIN:VALARM
TRIGGER:-PT10080M
ACTION:DISPLAY
DESCRIPTION:Reminder
END:VALARM
END:VEVENT
END:VCALENDAR
